BEGIN:VCALENDAR
VERSION:2.0
PRODID:-//ChamberMaster//Event Calendar 2.0//EN
METHOD:PUBLISH
X-PUBLISHED-TTL:P3D
REFRESH-INTERVAL:P3D
CALSCALE:GREGORIAN
BEGIN:VEVENT
DTSTART:20170331T233000Z
DTEND:20170401T003000Z
X-MICROSOFT-CDO-ALLDAYEVENT:FALSE
SUMMARY:I Have a Dream: The Life and Times of Martin Luther King\, Jr
DESCRIPTION:The phenomenal impact of Dr. Martin Luther King\, Jr. is chronicled in this compelling dramatization of the life and times of the one of the most influential and charismatic leaders of the 20th century. Presented by the Virginia Repertory Theatre.
X-ALT-DESC;FMTTYPE=text/html:<span style="color: rgb(75\, 79\, 86)\; font-family: 'San Francisco'\, -apple-system\, BlinkMacSystemFont\, '.SFNSText-Regular'\, sans-serif\; font-size: 14px\; letter-spacing: -0.23999999463558197px\;">The phenomenal impact of Dr. Martin Luther King\, Jr. is chronicled in this compelling dramatization of the life and times of the one of the most influential and charismatic leaders of the 20th century. Presented by the Virginia Repertory Theatre.</span>
LOCATION:The Prizery 700 Bruce Street South Boston\, VA 24592
UID:e.845.5881
SEQUENCE:3
DTSTAMP:20260424T133904Z
URL:https://business.halifaxchamber.net/events/details/i-have-a-dream-the-life-and-times-of-martin-luther-king-jr-5881
END:VEVENT

END:VCALENDAR
