BEGIN:VCALENDAR
VERSION:2.0
PRODID:-//ChamberMaster//Event Calendar 2.0//EN
METHOD:PUBLISH
X-PUBLISHED-TTL:P3D
REFRESH-INTERVAL:P3D
CALSCALE:GREGORIAN
BEGIN:VEVENT
DTSTART:20170622T203000Z
DTEND:20170622T223000Z
X-MICROSOFT-CDO-ALLDAYEVENT:FALSE
SUMMARY:I'll Sing for the Ring
DESCRIPTION:Do you plan to get engaged soon? If so you don't want to miss your opportunity to WIN an engagement ring.\n\n\n\nEden Jewelry and WAKG have paired up for a "I'll Sing For the Ring" Contest.\n\nThe live broadcast for South Boston will be Thursday\, June 22nd from 4:30 - 6:30PM.\n\n\n\nVisit http://www.wakg.com/pages/23086929.php for more details.
X-ALT-DESC;FMTTYPE=text/html:Do you plan to get engaged soon? If so you don&#39\;t want to miss your opportunity to WIN an engagement ring.<br />\n<br />\nEden Jewelry and WAKG have paired up for a &quot\;I&#39\;ll Sing For the Ring&quot\; Contest.<br />\nThe live broadcast for South Boston will be Thursday\, June 22nd from 4:30 - 6:30PM.<br />\n<br />\nVisit&nbsp\;<a href="http://www.wakg.com/pages/23086929.php">http://www.wakg.com/pages/23086929.php</a>&nbsp\;for more details.&nbsp\;
LOCATION:3601 Old Halifax Road
UID:e.845.6997
SEQUENCE:3
DTSTAMP:20260422T225741Z
URL:https://business.halifaxchamber.net/events/details/i-ll-sing-for-the-ring-6997
END:VEVENT

END:VCALENDAR
