BEGIN:VCALENDAR
VERSION:2.0
PRODID:-//ChamberMaster//Event Calendar 2.0//EN
METHOD:PUBLISH
X-PUBLISHED-TTL:P3D
REFRESH-INTERVAL:P3D
CALSCALE:GREGORIAN
BEGIN:VEVENT
DTSTART:20190123T170000Z
DTEND:20190123T180000Z
X-MICROSOFT-CDO-ALLDAYEVENT:FALSE
SUMMARY:Increase Sales for Your Small Business
DESCRIPTION:Bring your lunch and join us for an information seminar on how to increase sales for your small business.
X-ALT-DESC;FMTTYPE=text/html:Bring your lunch and join us for an information seminar on how to increase sales for your small business.&nbsp\;
LOCATION:Halifax County Chamber of Commerce Frank Slayton Board Room
UID:e.845.9437
SEQUENCE:3
DTSTAMP:20260421T140111Z
URL:https://business.halifaxchamber.net/events/details/increase-sales-for-your-small-business-9437
END:VEVENT

END:VCALENDAR
