BEGIN:VCALENDAR
VERSION:2.0
PRODID:-//ChamberMaster//Event Calendar 2.0//EN
METHOD:PUBLISH
X-PUBLISHED-TTL:P3D
REFRESH-INTERVAL:P3D
CALSCALE:GREGORIAN
BEGIN:VEVENT
DTSTART:20171217T180000Z
DTEND:20171217T220000Z
X-MICROSOFT-CDO-ALLDAYEVENT:FALSE
SUMMARY:Indoor Holiday Market
DESCRIPTION:Come find unique and handmade gifts for everyone on your list inside the Town of Halifax Farmers Market.
X-ALT-DESC;FMTTYPE=text/html:<span style="color: rgb(110\, 110\, 110)\; font-family: cabinregular\, Verdana\, Helvetica\, Arial\, sans-serif\; font-size: 16px\;">Come find unique and handmade gifts for everyone on your list inside the Town of Halifax Farmers Market.</span><br style="color: rgb(110\, 110\, 110)\; font-family: cabinregular\, Verdana\, Helvetica\, Arial\, sans-serif\; font-size: 16px\;" />\n<br style="color: rgb(110\, 110\, 110)\; font-family: cabinregular\, Verdana\, Helvetica\, Arial\, sans-serif\; font-size: 16px\;" />\n&nbsp\;
LOCATION:Town of Halifax Farmers Market 209 South Main Street Halifax\, VA 24558
UID:e.845.5859
SEQUENCE:3
DTSTAMP:20260422T104922Z
URL:https://business.halifaxchamber.net/events/details/indoor-holiday-market-12-17-2017-5859
END:VEVENT

END:VCALENDAR
