BEGIN:VCALENDAR
VERSION:2.0
PRODID:-//ChamberMaster//Event Calendar 2.0//EN
METHOD:PUBLISH
X-PUBLISHED-TTL:P3D
REFRESH-INTERVAL:P3D
CALSCALE:GREGORIAN
BEGIN:VEVENT
DTSTART:20171202T140000Z
DTEND:20171202T200000Z
X-MICROSOFT-CDO-ALLDAYEVENT:FALSE
SUMMARY:Indoor Holiday Market
DESCRIPTION:Come find unique and handmade gifts for everyone on your list inside the Town of Halifax Farmers Market.\n\n\n\nSanta will be at the Farmer's Market every Saturday until Christmas. Have you picture taken with him!
X-ALT-DESC;FMTTYPE=text/html:<span style="color: rgb(110\, 110\, 110)\; font-family: cabinregular\, Verdana\, Helvetica\, Arial\, sans-serif\; font-size: 16px\;">Come find unique and handmade gifts for everyone on your list inside the Town of Halifax Farmers Market.<br />\n<br />\nSanta will be at the Farmer&#39\;s Market every Saturday until Christmas. Have you picture taken with him!&nbsp\;</span>
LOCATION:Town of Halifax Farmers Market 209 South Main Street Halifax\, VA 24558
UID:e.845.5853
SEQUENCE:3
DTSTAMP:20260422T121152Z
URL:https://business.halifaxchamber.net/events/details/indoor-holiday-market-5853
END:VEVENT

END:VCALENDAR
