BEGIN:VCALENDAR
VERSION:2.0
PRODID:-//ChamberMaster//Event Calendar 2.0//EN
METHOD:PUBLISH
X-PUBLISHED-TTL:P3D
REFRESH-INTERVAL:P3D
CALSCALE:GREGORIAN
BEGIN:VEVENT
DTSTART:20200415T161500Z
DTEND:20200415T171500Z
X-MICROSOFT-CDO-ALLDAYEVENT:FALSE
SUMMARY:Innovation During COVID-19
DESCRIPTION:To come strong out of the coronavirus crisis\, businesses must keep their innovation activities going. However\, that is easier said than done. This session will address how to innovate as a small company with limited resources in a time like this.\n\n \n\nTopics Addressed\n\n \n\n\n	The necessity and benefits of innovating during a crisis.\n	Who to put to the task?\n	How to define new opportunities?\n	How to obtain buy-in?\n	How to test with a limited budget?\n	How to take it from there in these uncertain times?
X-ALT-DESC;FMTTYPE=text/html:<div style="color: rgb(64\, 63\, 66)\; font-family: Arial\, Verdana\, Helvetica\, sans-serif\; font-size: 12px\;"><span style="font-size: 14px\; color: rgb(20\, 20\, 19)\; font-family: Verdana\, Geneva\, sans-serif\;">To come strong out of the coronavirus crisis\, businesses must keep their innovation activities going. However\, that is easier said than done. This session will address how to innovate as a small company with limited resources in a time like this.</span></div>\n\n<div style="color: rgb(64\, 63\, 66)\; font-family: Arial\, Verdana\, Helvetica\, sans-serif\; font-size: 12px\;">&nbsp\;</div>\n\n<div style="color: rgb(64\, 63\, 66)\; font-family: Arial\, Verdana\, Helvetica\, sans-serif\; font-size: 12px\;"><span style="font-size: 22px\; color: rgb(20\, 20\, 19)\; font-family: 'Trebuchet MS'\, Verdana\, Helvetica\, sans-serif\;">Topics Addressed</span></div>\n\n<div style="color: rgb(64\, 63\, 66)\; font-family: Arial\, Verdana\, Helvetica\, sans-serif\; font-size: 12px\;">&nbsp\;</div>\n\n<ol style="padding-right: 0px\; padding-left: 0px\; margin: 0px 0px 0px 40px\; color: rgb(64\, 63\, 66)\; font-family: Arial\, Verdana\, Helvetica\, sans-serif\; font-size: 12px\;">\n	<li style="padding: 0px\; margin: 0px\; line-height: 1.2\; font-size: 14px\; color: rgb(20\, 20\, 19)\;"><span style="font-family: Verdana\, Geneva\, sans-serif\;">The necessity and benefits of innovating during a crisis.</span></li>\n	<li style="padding: 0px\; margin: 0px\; line-height: 1.2\; font-size: 14px\; color: rgb(20\, 20\, 19)\;"><span style="font-family: Verdana\, Geneva\, sans-serif\;">Who to put to the task?</span></li>\n	<li style="padding: 0px\; margin: 0px\; line-height: 1.2\; font-size: 14px\; color: rgb(20\, 20\, 19)\;"><span style="font-family: Verdana\, Geneva\, sans-serif\;">How to define new opportunities?</span></li>\n	<li style="padding: 0px\; margin: 0px\; line-height: 1.2\; font-size: 14px\; color: rgb(20\, 20\, 19)\;"><span style="font-family: Verdana\, Geneva\, sans-serif\;">How to obtain buy-in?</span></li>\n	<li style="padding: 0px\; margin: 0px\; line-height: 1.2\; font-size: 14px\; color: rgb(20\, 20\, 19)\;"><span style="font-family: Verdana\, Geneva\, sans-serif\;">How to test with a limited budget?</span></li>\n	<li style="padding: 0px\; margin: 0px\; line-height: 1.2\; font-size: 14px\; color: rgb(20\, 20\, 19)\;"><span style="font-family: Verdana\, Geneva\, sans-serif\;">How to take it from there in these uncertain times?</span></li>\n</ol>\n
LOCATION:Register at: https://zoom.us/webinar/register/WN_jGXaK0OYRyCCdt1UQShjBw
UID:e.845.17559
SEQUENCE:3
DTSTAMP:20260420T131824Z
URL:https://business.halifaxchamber.net/events/details/innovation-during-covid-19-17559
END:VEVENT

END:VCALENDAR
