BEGIN:VCALENDAR
VERSION:2.0
PRODID:-//ChamberMaster//Event Calendar 2.0//EN
METHOD:PUBLISH
X-PUBLISHED-TTL:P3D
REFRESH-INTERVAL:P3D
CALSCALE:GREGORIAN
BEGIN:VEVENT
DTSTART:20200205T143000Z
DTEND:20200205T180000Z
X-MICROSOFT-CDO-ALLDAYEVENT:FALSE
SUMMARY:International Trade Forum
DESCRIPTION:The Southern Virginia Regional Alliance is hosting an International Trade Forum providing an overview of Virginia's International Trade Plan from Stephanie Agee\, Vice President of International Trade for Virginia Economic Development Partnership (VEDP). For companies who are actively engaged or interested in international trade there will be industry roundtable discussions prior to the lunch keynote.\n\n\n\nClick here to register.
X-ALT-DESC;FMTTYPE=text/html:The Southern Virginia Regional Alliance is hosting an International Trade Forum providing an overview of Virginia&rsquo\;s International Trade Plan from Stephanie Agee\, Vice President of International Trade for Virginia Economic Development Partnership (VEDP). For companies who are actively engaged or interested in international trade there will be industry roundtable discussions prior to the lunch keynote.<br />\n<br />\nClick <a href="https://www.eventbrite.com/e/international-trade-forum-registration-91150480541">here</a> to register.
LOCATION:Institute for Advanced Learning & Research 150 Slayton Avenue\, Danville\, VA 24540
UID:e.845.17465
SEQUENCE:3
DTSTAMP:20260420T151554Z
URL:https://business.halifaxchamber.net/events/details/international-trade-forum-17465
END:VEVENT

END:VCALENDAR
