BEGIN:VCALENDAR
VERSION:2.0
PRODID:-//ChamberMaster//Event Calendar 2.0//EN
METHOD:PUBLISH
X-PUBLISHED-TTL:P3D
REFRESH-INTERVAL:P3D
CALSCALE:GREGORIAN
BEGIN:VEVENT
DTSTART:20170621T190000Z
DTEND:20170621T210000Z
X-MICROSOFT-CDO-ALLDAYEVENT:FALSE
SUMMARY:Into the Woods at The Prizery
DESCRIPTION:James Lapine and Stephen Sondheim take everyone's favorite storybook characters and bring them together for a timeless\, yet relevant\, piece... and a rare modern classic. The Tony Award-winning book and score are both enchanting and touching. The story follows a Baker and his wide\, who wish to have a child\; Cinderella\, who wishes to attend the King's Festival\; and Jack\, who wishes his cow could give milk. When the Baker and his wife learn they they cannot have children because of a Witch's curse\, the two set off on a journey to break the curse. Everyone's wish is granted\, but the consequences of their actions return to haunt them later with disastrous results.
X-ALT-DESC;FMTTYPE=text/html:James Lapine&nbsp\;and Stephen Sondheim take everyone&#39\;s favorite storybook characters and bring them together for a timeless\, yet relevant\, piece... and a rare modern classic. The Tony Award-winning book and score are both enchanting and touching. The story follows a Baker and his wide\, who wish to have a child\; Cinderella\, who wishes to attend the King&#39\;s Festival\; and Jack\, who wishes his cow could give milk. When the Baker and his wife learn they they cannot have children because of a Witch&#39\;s curse\, the two set off on a journey to break the curse. Everyone&#39\;s wish is granted\, but the consequences of their actions return to haunt them later with disastrous results.
LOCATION:The Prizery Chastain Theatre 700 Bruce Street South Boston\, VA
UID:e.845.5935
SEQUENCE:3
DTSTAMP:20260422T212301Z
URL:https://business.halifaxchamber.net/events/details/into-the-woods-at-the-prizery-5935
END:VEVENT

END:VCALENDAR
