BEGIN:VCALENDAR
VERSION:2.0
PRODID:-//ChamberMaster//Event Calendar 2.0//EN
METHOD:PUBLISH
X-PUBLISHED-TTL:P3D
REFRESH-INTERVAL:P3D
CALSCALE:GREGORIAN
BEGIN:VEVENT
DTSTART:20200427T170000Z
DTEND:20200427T180000Z
X-MICROSOFT-CDO-ALLDAYEVENT:FALSE
SUMMARY:Intro to the Best eCommerce Platforms for Small Business
DESCRIPTION:While markets are cyclical\, eCommerce (a/k/a online shopping) is here to stay. And\, if you want a business that becomes and stays resilient through difficult times\, making sure your business can be found and your products/services sold on the Web is imperative.\n\n \n\nCome learn about the best eCommerce platforms for Small Business available to you today. We'll cover the criteria you should look at for choosing an eCommerce platform for your business and the selection available to you.\n\n\n\nPresented by: Ray Sidney-Smith
X-ALT-DESC;FMTTYPE=text/html:<div align="left" style="color: rgb(64\, 63\, 66)\; font-family: Arial\, Verdana\, Helvetica\, sans-serif\; font-size: 12px\;"><span style="font-size: 14px\;">While markets are cyclical\, eCommerce (a/k/a online shopping) is here to stay. And\, if you want a business that becomes and stays resilient through difficult times\, making sure your business can be found and your products/services sold on the Web is imperative.</span></div>\n\n<div align="left" style="color: rgb(64\, 63\, 66)\; font-family: Arial\, Verdana\, Helvetica\, sans-serif\; font-size: 12px\;">&nbsp\;</div>\n\n<div align="left" style="color: rgb(64\, 63\, 66)\; font-family: Arial\, Verdana\, Helvetica\, sans-serif\; font-size: 12px\;"><span style="font-size: 14px\;">Come learn about the best eCommerce platforms for Small Business available to you today. We&rsquo\;ll cover the criteria you should look at for choosing an eCommerce platform for your business and the selection available to you.<br />\n<br />\nPresented by: Ray Sidney-Smith</span></div>\n
LOCATION:Register at: https://clients.virginiasbdc.org/workshop.aspx?ekey=900400009
UID:e.845.17576
SEQUENCE:3
DTSTAMP:20260420T114625Z
URL:https://business.halifaxchamber.net/events/details/intro-to-the-best-ecommerce-platforms-for-small-business-17576
END:VEVENT

END:VCALENDAR
