BEGIN:VCALENDAR
VERSION:2.0
PRODID:-//ChamberMaster//Event Calendar 2.0//EN
METHOD:PUBLISH
X-PUBLISHED-TTL:P3D
REFRESH-INTERVAL:P3D
CALSCALE:GREGORIAN
BEGIN:VEVENT
DTSTART:20181019T150000Z
DTEND:20181019T170000Z
X-MICROSOFT-CDO-ALLDAYEVENT:FALSE
SUMMARY:Invasive Plant Insects and Diseases of Concern
DESCRIPTION:Jessica Driver\, VDACS Plant Inspector\, will talk about Invasive Diseases and Pests of Concern for our Virginia landscape plants.  Jessica will include a discussion about boxwood blight and spotted lanternfly. Some of these pests such as rose rosette disease can decimate all of the plants in that species very quickly.  Therefore\, it is important for us to recognize the signs and symptoms so we can take appropriate action.\n\nTo make a reservation for any or all of these programs\, please call 434-476-2147\, option 0 or email ask@ssmga.org.  These programs are open to the general public at no charge.  Hope to see you there!
X-ALT-DESC;FMTTYPE=text/html:<p style="box-sizing: border-box\; margin: 0px 0px 10px\; line-height: 1.7\; caret-color: rgb(45\, 45\, 45)\; color: rgb(45\, 45\, 45)\; font-family: &quot\;Open Sans&quot\;\, sans-serif\; font-size: 14px\;">Jessica Driver\, VDACS Plant Inspector\, will talk about Invasive Diseases and Pests of Concern for our Virginia landscape plants.&nbsp\; Jessica will include a discussion about boxwood blight and spotted lanternfly. Some of these pests such as rose rosette disease can decimate all of the plants in that species very quickly.&nbsp\; Therefore\, it is important for us to recognize the signs and symptoms so we can take appropriate action.</p>\n\n<p style="box-sizing: border-box\; margin: 0px 0px 10px\; line-height: 1.7\; caret-color: rgb(45\, 45\, 45)\; color: rgb(45\, 45\, 45)\; font-family: &quot\;Open Sans&quot\;\, sans-serif\; font-size: 14px\;">To make a reservation for any or all of these programs\, please call 434-476-2147\, option 0 or email ask@ssmga.org.&nbsp\; These programs are open to the general public at no charge.&nbsp\; Hope to see you there!</p>\n
LOCATION:South Boston - Halifax County Museum
UID:e.845.8538
SEQUENCE:3
DTSTAMP:20260421T171633Z
URL:https://business.halifaxchamber.net/events/details/invasive-plant-insects-and-diseases-of-concern-8538
END:VEVENT

END:VCALENDAR
