BEGIN:VCALENDAR
VERSION:2.0
PRODID:-//ChamberMaster//Event Calendar 2.0//EN
METHOD:PUBLISH
X-PUBLISHED-TTL:P3D
REFRESH-INTERVAL:P3D
CALSCALE:GREGORIAN
BEGIN:VEVENT
DTSTART:20191017T213000Z
DTEND:20191017T223000Z
X-MICROSOFT-CDO-ALLDAYEVENT:FALSE
SUMMARY:IT Academy Info Sessions
DESCRIPTION:Interested in entering the IT field? Get started with the IT Academy. Day and evening classes will be offered.\n\nRegistration for an information session is required. For more information or to register\, contact Kelly Shotwell at 434.572.5660 or kellyshotwell@svhec.org\n\nAll persons interested in enrolling must attend an information session.
X-ALT-DESC;FMTTYPE=text/html:Interested in entering the IT field? Get started with the IT Academy. Day and evening classes will be offered.<br />\nRegistration for an information session is required. For more information or to register\, contact Kelly Shotwell at 434.572.5660 or kellyshotwell@svhec.org<br />\nAll persons interested in enrolling must attend an information session.
LOCATION:Southern Virginia Higher Education Center 820 Bruce Street South Boston\, VA 24592
UID:e.845.13448
SEQUENCE:3
DTSTAMP:20260420T233033Z
URL:https://business.halifaxchamber.net/events/details/it-academy-info-sessions-13448
END:VEVENT

END:VCALENDAR
