BEGIN:VCALENDAR
VERSION:2.0
PRODID:-//ChamberMaster//Event Calendar 2.0//EN
METHOD:PUBLISH
X-PUBLISHED-TTL:P3D
REFRESH-INTERVAL:P3D
CALSCALE:GREGORIAN
BEGIN:VEVENT
DTSTART:20160827T213000Z
DTEND:20160828T030000Z
X-MICROSOFT-CDO-ALLDAYEVENT:FALSE
SUMMARY:"Italian Delight Family Restaurant Presents Frutopia Not Just Frozen Yogurt" NASCAR Late Model 100/Limited 50/Pure Stock 30/ Hornets 15/ Southern Ground Pounders 25
DESCRIPTION:"Italian Delight Family Restaurant Presents Frutopia Not Just Frozen Yogurt" NASCAR Late Model 100/Limited 50/ Pure Stock 30/ Hornets 15/ Southern Ground Pounders 25
X-ALT-DESC;FMTTYPE=text/html:&quot\;Italian Delight Family Restaurant Presents Frutopia Not Just Frozen Yogurt&quot\; NASCAR Late Model 100/Limited 50/ Pure Stock 30/ Hornets 15/ Southern Ground Pounders 25
LOCATION:South Boston Speedway
UID:e.845.5705
SEQUENCE:3
DTSTAMP:20260425T004404Z
URL:https://business.halifaxchamber.net/events/details/italian-delight-family-restaurant-presents-frutopia-not-just-frozen-yogurt-nascar-late-model-100-limited-50-pure-stock-30-hornets-15-southern-ground-pounders-25-08-27-2016-5705
END:VEVENT

END:VCALENDAR
