BEGIN:VCALENDAR
VERSION:2.0
PRODID:-//ChamberMaster//Event Calendar 2.0//EN
METHOD:PUBLISH
X-PUBLISHED-TTL:P3D
REFRESH-INTERVAL:P3D
CALSCALE:GREGORIAN
BEGIN:VEVENT
DTSTART;VALUE=DATE:20190717
DTEND;VALUE=DATE:20190719
TRANSP:TRANSPARENT
X-MICROSOFT-CDO-ALLDAYEVENT:TRUE
SUMMARY:Jamestown Exhibit
DESCRIPTION:Jamestown and Beyond: The World of 1607 will be featured at the South Boston-Halifax County Museum July 17 - August 17.\n\nExplore twelve compelling works of art that illustrate and illuminate the world of 1607 and the legacy of Jamestown. Some were created by European\, African\, Asian\, and South American cultures around the time that Jamestown was struggling to survive. Others were produced in the centuries that followed as artists drew from fact\, legend and sometimes their imaginations to depict life in and around the Jamestown colony.\n\nFor more information on this exhibit visit https://www.vmfa.museum/statewide/programs/jamestown-and-beyond-the-world-of-1607/
X-ALT-DESC;FMTTYPE=text/html:Jamestown and Beyond: The World of 1607 will be featured at the South Boston-Halifax County Museum July 17 - August 17.<br />\n<span style="font-size:12px\;"><span style="color: rgb(45\, 45\, 45)\; font-family: open_sansregular\, Helvetica\, Roboto\, Arial\, sans-serif\; background-color: rgb(254\, 254\, 254)\;">Explore twelve compelling works of art that illustrate and illuminate the world of 1607 and the legacy of Jamestown. Some were created by European\, African\, Asian\, and South American cultures around the time that Jamestown was struggling to survive. Others were produced in the centuries that followed as artists drew from fact\, legend&mdash\;and sometimes their imaginations&mdash\;to depict life in and around the Jamestown colony.<br />\nFor more information on this exhibit visit&nbsp\;</span></span><a href="https://www.vmfa.museum/statewide/programs/jamestown-and-beyond-the-world-of-1607/">https://www.vmfa.museum/statewide/programs/jamestown-and-beyond-the-world-of-1607/</a>
LOCATION:South Boston-Halifax County Museum 1540 Wilborn Ave South Boston\, VA 24592
UID:e.845.13204
SEQUENCE:3
DTSTAMP:20260421T044017Z
URL:https://business.halifaxchamber.net/events/details/jamestown-exhibit-13204
END:VEVENT

END:VCALENDAR
