BEGIN:VCALENDAR
VERSION:2.0
PRODID:-//ChamberMaster//Event Calendar 2.0//EN
METHOD:PUBLISH
X-PUBLISHED-TTL:P3D
REFRESH-INTERVAL:P3D
CALSCALE:GREGORIAN
BEGIN:VEVENT
DTSTART:20200815T130000Z
DTEND:20200815T210000Z
X-MICROSOFT-CDO-ALLDAYEVENT:FALSE
SUMMARY:Jane Bond - Ladies Only Basic Handgun Defense Course
DESCRIPTION:Our ladies only course is perfect for beginners and for those that want to sharpen their shooting skills. No shooting experience necessary.\n\nThis course has been developed specifically for women and will be led by women instructors. You will learn basic handgun and personal safety protocols.\n\n\n\nTopics covered:\n\n	Fundamentals of shooting\n	Shooting around barricades\n	Situational awareness\n	Personal protection\n	Shooting around a vehicle\n	Home defense\n	Scenario based training\n\nEquipment:\n\n\n	Ear and Eye protection\n	Firearm (unloaded\, stored in case)\n	Holster\n	2 or more magazine/speed loaders (3 is recommended)\n	Ammunition (at least 250 rounds)\n	Short sleeve shirt\n	Hat/Cap\n\nContact Racing for Heroes\n\n434-822-4201\n\ninfo@racingforheroes.org\n\nwww.racingforheroes.org
X-ALT-DESC;FMTTYPE=text/html:Our ladies only course is perfect for beginners and for those that want to sharpen their shooting skills. No shooting experience necessary.<br />\nThis course has been developed specifically for women and will be led by women instructors. You will learn basic handgun and personal safety protocols.<br />\n<br />\nTopics covered:\n<ul>\n	<li>Fundamentals of shooting</li>\n	<li>Shooting around barricades</li>\n	<li>Situational awareness</li>\n	<li>Personal protection</li>\n	<li>Shooting around a vehicle</li>\n	<li>Home defense</li>\n	<li>Scenario based training</li>\n</ul>\nEquipment:\n\n<ul>\n	<li>Ear and Eye protection</li>\n	<li>Firearm (unloaded\, stored in case)</li>\n	<li>Holster</li>\n	<li>2 or more magazine/speed loaders (3 is recommended)</li>\n	<li>Ammunition (at least 250 rounds)</li>\n	<li>Short sleeve shirt</li>\n	<li>Hat/Cap</li>\n</ul>\nContact Racing for Heroes<br />\n434-822-4201<br />\ninfo@racingforheroes.org<br />\nwww.racingforheroes.org
LOCATION:VIRginia International Raceway 1245 Pine Tree Road Alton\, VA 24520
UID:e.845.17725
SEQUENCE:3
DTSTAMP:20260420T062632Z
URL:https://business.halifaxchamber.net/events/details/jane-bond-ladies-only-basic-handgun-defense-course-17725
END:VEVENT

END:VCALENDAR
