BEGIN:VCALENDAR
VERSION:2.0
PRODID:-//ChamberMaster//Event Calendar 2.0//EN
METHOD:PUBLISH
X-PUBLISHED-TTL:P3D
REFRESH-INTERVAL:P3D
CALSCALE:GREGORIAN
BEGIN:VEVENT
DTSTART:20161104T200000Z
DTEND:20161104T210000Z
X-MICROSOFT-CDO-ALLDAYEVENT:FALSE
SUMMARY:JB's Burgers\, Apps\, and Taps Ribbon Cutting
DESCRIPTION:Join JB's Burgers\, Apps and Taps at their renovated location! Check out the new look and menu\, and see what the newest restaurant in town is all about!
X-ALT-DESC;FMTTYPE=text/html:Join&nbsp\;JB&#39\;s Burgers\, Apps and Taps at their&nbsp\;renovated&nbsp\;location! Check out the new look and menu\, and see what the newest restaurant in town is all about!
LOCATION:World of Sports 2030 Bill Tuck Highway South Boston\, VA 24592
UID:e.845.5738
SEQUENCE:3
DTSTAMP:20260424T211636Z
URL:https://business.halifaxchamber.net/events/details/jb-s-burgers-apps-and-taps-ribbon-cutting-5738
END:VEVENT

END:VCALENDAR
