BEGIN:VCALENDAR
VERSION:2.0
PRODID:-//ChamberMaster//Event Calendar 2.0//EN
METHOD:PUBLISH
X-PUBLISHED-TTL:P3D
REFRESH-INTERVAL:P3D
CALSCALE:GREGORIAN
BEGIN:VEVENT
DTSTART:20200121T180000Z
DTEND:20200121T210000Z
X-MICROSOFT-CDO-ALLDAYEVENT:FALSE
SUMMARY:Job Fair at Dollar General Distribution Center
DESCRIPTION:Dollar General is hiring general warehouse and mechanic positions.  They offer great wages and benefits.  Please apply before attending.
X-ALT-DESC;FMTTYPE=text/html:Dollar General is hiring general warehouse and mechanic positions.&nbsp\; They offer great wages and benefits.&nbsp\; Please apply before attending.&nbsp\;&nbsp\;&nbsp\;&nbsp\;&nbsp\;&nbsp\;&nbsp\;&nbsp\;
LOCATION:3207 Philpott Road South Boston\, VA 24592
UID:e.845.15657
SEQUENCE:3
DTSTAMP:20260420T165438Z
URL:https://business.halifaxchamber.net/events/details/job-fair-at-dollar-general-distribution-center-15657
END:VEVENT

END:VCALENDAR
