BEGIN:VCALENDAR
VERSION:2.0
PRODID:-//ChamberMaster//Event Calendar 2.0//EN
METHOD:PUBLISH
X-PUBLISHED-TTL:P3D
REFRESH-INTERVAL:P3D
CALSCALE:GREGORIAN
BEGIN:VEVENT
DTSTART:20191114T203000Z
DTEND:20191114T233000Z
X-MICROSOFT-CDO-ALLDAYEVENT:FALSE
SUMMARY:Job Fair at Heritage Hall Brookneal
DESCRIPTION:Hiring in all Departments: nursing\, dietary\, environmental services\n\nFull time\, part time\, PRN openings available
X-ALT-DESC;FMTTYPE=text/html:Hiring in all Departments: nursing\, dietary\, environmental services<br />\nFull time\, part time\, PRN openings available
LOCATION:Heritage Hall 633 Cook Ave Brookneal\, VA 24528
UID:e.845.15526
SEQUENCE:3
DTSTAMP:20260420T200353Z
URL:https://business.halifaxchamber.net/events/details/job-fair-at-heritage-hall-brookneal-15526
END:VEVENT

END:VCALENDAR
