BEGIN:VCALENDAR
VERSION:2.0
PRODID:-//ChamberMaster//Event Calendar 2.0//EN
METHOD:PUBLISH
X-PUBLISHED-TTL:P3D
REFRESH-INTERVAL:P3D
CALSCALE:GREGORIAN
BEGIN:VEVENT
DTSTART:20190521T150000Z
DTEND:20190521T190000Z
X-MICROSOFT-CDO-ALLDAYEVENT:FALSE
SUMMARY:Job Fair at Sentara Woodview
DESCRIPTION:Join Sentara Woodview for an Open House with on spot interviews.\n\nWe are hiring for the following positions:\n\n	RNs\, LPNs\, & CNAs - New grad and experienced (Sign-on bonuses for qualified candidates)\n	MDS Coordinator RN\n	Dietary Aides\n\nPlease visit our website at http://www.sentaracareers.com/events and search for 124189BR for more information about this event.
X-ALT-DESC;FMTTYPE=text/html:Join Sentara Woodview for an Open House with <strong>on spot interviews</strong>.<br />\nWe are hiring for the following positions:\n<ul>\n	<li>RNs\, LPNs\, &amp\; CNAs - New grad and experienced (<em>Sign-on bonuses for qualified candidates</em>)</li>\n	<li>MDS Coordinator RN</li>\n	<li>Dietary Aides</li>\n</ul>\nPlease visit our website at&nbsp\;<a href="http://www.sentaracareers.com/events">http://www.sentaracareers.com/events</a>&nbsp\;and search for 124189BR&nbsp\;<em>for more information about this event.</em>
LOCATION:Sentara Woodview 103 Rose Hill Drive South Boston\, VA 24592
UID:e.845.12694
SEQUENCE:3
DTSTAMP:20260421T080050Z
URL:https://business.halifaxchamber.net/events/details/job-fair-at-sentara-woodview-12694
END:VEVENT

END:VCALENDAR
