BEGIN:VCALENDAR
VERSION:2.0
PRODID:-//ChamberMaster//Event Calendar 2.0//EN
METHOD:PUBLISH
X-PUBLISHED-TTL:P3D
REFRESH-INTERVAL:P3D
CALSCALE:GREGORIAN
BEGIN:VEVENT
DTSTART:20201030T160000Z
DTEND:20201030T200000Z
X-MICROSOFT-CDO-ALLDAYEVENT:FALSE
SUMMARY:Job Fair at the South Boston AmeriStaff
DESCRIPTION:AmeriStaff is hosting a Halloween Job Fair at our office location in South Boston\, VA on October 30th\, from 12:00 PM to4:00 PM! Come by and see us for lots of treats! We have 100s of openings to apply to! We look forward to seeing you!
X-ALT-DESC;FMTTYPE=text/html:AmeriStaff is hosting a Halloween Job Fair at our office location in South Boston\, VA on October 30th\, from 12:00 PM to4:00 PM! Come by and see us for lots of treats! We have 100s of openings to apply to! We look forward to seeing you!
LOCATION:South Boston AmeriStaff Office
UID:e.845.17806
SEQUENCE:3
DTSTAMP:20260420T032648Z
URL:https://business.halifaxchamber.net/events/details/job-fair-at-the-south-boston-ameristaff-17806
END:VEVENT

END:VCALENDAR
