BEGIN:VCALENDAR
VERSION:2.0
PRODID:-//ChamberMaster//Event Calendar 2.0//EN
METHOD:PUBLISH
X-PUBLISHED-TTL:P3D
REFRESH-INTERVAL:P3D
CALSCALE:GREGORIAN
BEGIN:VEVENT
DTSTART:20191204T150000Z
DTEND:20191204T190000Z
X-MICROSOFT-CDO-ALLDAYEVENT:FALSE
SUMMARY:Job Fair Commonwealth Senior Living
DESCRIPTION:Looking to join an awesome team at a one of a kind facility? Commonwealth Senior Living of South Boston\, Virginia will be hosting a job fair with open interviews on December 4th. Please feel free to call 434-575-5400 with any questions.
X-ALT-DESC;FMTTYPE=text/html:<span style="color:rgb(29\, 33\, 41)\; font-family:system-ui\,-apple-system\,system-ui\,.sfnstext-regular\,sans-serif\; font-size:14px">Looking to join an awesome team at a one of a kind facility? Commonwealth Senior Living of South Boston\, Virginia will be hosting a job fair with open interviews on December 4th. Please feel free to call 434-575-5400 with any questions.&nbsp\;</span>
LOCATION:435 Hamilton Blvd South Boston\, VA 24592
UID:e.845.12264
SEQUENCE:3
DTSTAMP:20260420T183255Z
URL:https://business.halifaxchamber.net/events/details/job-fair-commonwealth-senior-living-12264
END:VEVENT

END:VCALENDAR
