BEGIN:VCALENDAR
VERSION:2.0
PRODID:-//ChamberMaster//Event Calendar 2.0//EN
METHOD:PUBLISH
X-PUBLISHED-TTL:P3D
REFRESH-INTERVAL:P3D
CALSCALE:GREGORIAN
BEGIN:VEVENT
DTSTART:20170609T100000Z
DTEND:20170609T230000Z
X-MICROSOFT-CDO-ALLDAYEVENT:FALSE
SUMMARY:Joe and a Bow Grand Opening
DESCRIPTION:South Boston's newest coffee shop and children's boutique is opening Friday\, June 9th.  Stop by anytime from 6AM - 7PM to welcome Brittany and her family to Downtown South Boston.\n\n\n\nThe Ribbon Cutting will be at 10AM.
X-ALT-DESC;FMTTYPE=text/html:South Boston&#39\;s newest coffee shop and children&#39\;s boutique is opening Friday\, June 9th. &nbsp\;Stop by anytime from 6AM - 7PM to welcome Brittany and her family to Downtown South Boston.<br />\n<br />\nThe Ribbon Cutting will be at 10AM.
LOCATION:Joe and a Bow 530 Wilborn Ave South Boston\, VA
UID:e.845.5972
SEQUENCE:3
DTSTAMP:20260422T212258Z
URL:https://business.halifaxchamber.net/events/details/joe-and-a-bow-grand-opening-5972
END:VEVENT

END:VCALENDAR
