BEGIN:VCALENDAR
VERSION:2.0
PRODID:-//ChamberMaster//Event Calendar 2.0//EN
METHOD:PUBLISH
X-PUBLISHED-TTL:P3D
REFRESH-INTERVAL:P3D
CALSCALE:GREGORIAN
BEGIN:VEVENT
DTSTART;VALUE=DATE:20190627
DTEND;VALUE=DATE:20190628
TRANSP:TRANSPARENT
X-MICROSOFT-CDO-ALLDAYEVENT:TRUE
SUMMARY:John M Jordan Camp #581 SCV Meeting
DESCRIPTION:The John M. Jordan Camp #581 SCV will hold it's meeting at Roma's Italian Restaurant.
X-ALT-DESC;FMTTYPE=text/html:The John M. Jordan Camp #581 SCV will hold it&#39\;s meeting at Roma&#39\;s Italian Restaurant.&nbsp\;&nbsp\;&nbsp\;&nbsp\;&nbsp\;&nbsp\;&nbsp\;&nbsp\;&nbsp\;
LOCATION:Roma's Italian Restaurant
UID:e.845.13139
SEQUENCE:3
DTSTAMP:20260421T044544Z
URL:https://business.halifaxchamber.net/events/details/john-m-jordan-camp-581-scv-meeting-13139
END:VEVENT

END:VCALENDAR
