BEGIN:VCALENDAR
VERSION:2.0
PRODID:-//ChamberMaster//Event Calendar 2.0//EN
METHOD:PUBLISH
X-PUBLISHED-TTL:P3D
REFRESH-INTERVAL:P3D
CALSCALE:GREGORIAN
BEGIN:VEVENT
DTSTART:20200214T190000Z
DTEND:20200214T210000Z
X-MICROSOFT-CDO-ALLDAYEVENT:FALSE
SUMMARY:Joint Facilities Committee Meeting
DESCRIPTION:The Joint Facilities Subcommittee will meet Friday\, February 14 at 2:00 pm in the board conference room at the School Board Central Administrative Office at the Mary Bethune Complex. The purpose of the meeting is to share specific information regarding costs of repairing\, renovating\, or replacing Halifax County High School. In addition\, Davenport Financial group will share with the committee specifics regarding a myriad of payment options. Halifax County Public School personnel will also share long term facility needs beyond the High School as well review the PPEA (Public-Private Education and Infrastructure Act) process.
X-ALT-DESC;FMTTYPE=text/html:<span style="font-size:14px\;"><span style="font-family:arial\;"><span style="caret-color: rgb(0\, 0\, 0)\; text-size-adjust: auto\;">The Joint Facilities Subcommittee will meet Friday\, February 14 at 2:00 pm in the board conference room at the School Board Central Administrative Office at the Mary Bethune Complex. The purpose of the meeting is to share specific information regarding costs of repairing\, renovating\, or replacing Halifax County High School. In addition\, Davenport Financial group will share with&nbsp\;the committee specifics regarding a myriad of payment options. Halifax County Public School personnel will also share long term facility needs beyond the High School as well review the PPEA (Public-Private Education and Infrastructure&nbsp\;Act) process.&nbsp\;</span></span></span>
LOCATION:School Board Central Administrative Office at the Mary Bethune Complex
UID:e.845.17500
SEQUENCE:3
DTSTAMP:20260420T164747Z
URL:https://business.halifaxchamber.net/events/details/joint-facilities-committee-meeting-17500
END:VEVENT

END:VCALENDAR
