BEGIN:VCALENDAR
VERSION:2.0
PRODID:-//ChamberMaster//Event Calendar 2.0//EN
METHOD:PUBLISH
X-PUBLISHED-TTL:P3D
REFRESH-INTERVAL:P3D
CALSCALE:GREGORIAN
BEGIN:VEVENT
DTSTART:20170617T210000Z
DTEND:20170618T000000Z
X-MICROSOFT-CDO-ALLDAYEVENT:FALSE
SUMMARY:Josh Gilliland at Springfield Distillery
DESCRIPTION:Josh Gilliland will be performing live at Springfield Distillery Saturday\, June 17th from 5PM - 8PM
X-ALT-DESC;FMTTYPE=text/html:Josh Gilliland will be performing live at Springfield Distillery Saturday\, June 17th from 5PM - 8PM
LOCATION:Springfield Distillery 9040 River Road Halifax\, VA
UID:e.845.5981
SEQUENCE:3
DTSTAMP:20260424T084231Z
URL:https://business.halifaxchamber.net/events/details/josh-gilliland-at-springfield-distillery-5981
END:VEVENT

END:VCALENDAR
