BEGIN:VCALENDAR
VERSION:2.0
PRODID:-//ChamberMaster//Event Calendar 2.0//EN
METHOD:PUBLISH
X-PUBLISHED-TTL:P3D
REFRESH-INTERVAL:P3D
CALSCALE:GREGORIAN
BEGIN:VEVENT
DTSTART:20191212T210000Z
DTEND:20191212T230000Z
X-MICROSOFT-CDO-ALLDAYEVENT:FALSE
SUMMARY:Jumanji: The Next Level
DESCRIPTION:World of Sports is showing an early release of Jumanji: The Next Level\n\n\n\nPurchase tickets online at http://worldofsports.pfestore.com/capacity/titles/ComingSoon.aspx
X-ALT-DESC;FMTTYPE=text/html:World of Sports is showing an early release of Jumanji: The Next Level<br />\n<br />\nPurchase tickets online at&nbsp\;<a href="http://worldofsports.pfestore.com/capacity/titles/ComingSoon.aspx">http://worldofsports.pfestore.com/capacity/titles/ComingSoon.aspx</a>
LOCATION:2030 Bill Tuck Hwy South Boston\, VA 24592
UID:e.845.15610
SEQUENCE:3
DTSTAMP:20260420T195857Z
URL:https://business.halifaxchamber.net/events/details/jumanji-the-next-level-15610
END:VEVENT

END:VCALENDAR
