BEGIN:VCALENDAR
VERSION:2.0
PRODID:-//ChamberMaster//Event Calendar 2.0//EN
METHOD:PUBLISH
X-PUBLISHED-TTL:P3D
REFRESH-INTERVAL:P3D
CALSCALE:GREGORIAN
BEGIN:VEVENT
DTSTART:20190316T180000Z
DTEND:20190316T200000Z
X-MICROSOFT-CDO-ALLDAYEVENT:FALSE
SUMMARY:Jump Into Spring At The Prizery
DESCRIPTION:Jump Into Spring At The Prizery. Parent Child Art Class with MS. SUSI\n\nCall 434-572-8339 to pre-register\, limited space available
X-ALT-DESC;FMTTYPE=text/html:Jump Into Spring At The Prizery. Parent Child Art Class with MS. SUSI<br />\nCall 434-572-8339 to pre-register\, limited space available
LOCATION:The Prizery South Boston\, VA
UID:e.845.12351
SEQUENCE:3
DTSTAMP:20260421T110024Z
URL:https://business.halifaxchamber.net/events/details/jump-into-spring-at-the-prizery-12351
END:VEVENT

END:VCALENDAR
