BEGIN:VCALENDAR
VERSION:2.0
PRODID:-//ChamberMaster//Event Calendar 2.0//EN
METHOD:PUBLISH
X-PUBLISHED-TTL:P3D
REFRESH-INTERVAL:P3D
CALSCALE:GREGORIAN
BEGIN:VEVENT
DTSTART:20190209T020000Z
DTEND:20190209T045500Z
X-MICROSOFT-CDO-ALLDAYEVENT:FALSE
SUMMARY:Junkyard Freddy
DESCRIPTION:Junkyard Freddy performing live at the World of Sports Friday\, February 8th.
X-ALT-DESC;FMTTYPE=text/html:Junkyard Freddy performing live at the World of Sports Friday\, February 8th.
LOCATION:World of Sports 2030 Bill Tuck Highway South Boston\, VA 24592
UID:e.845.11988
SEQUENCE:3
DTSTAMP:20260421T105840Z
URL:https://business.halifaxchamber.net/events/details/junkyard-freddy-11988
END:VEVENT

END:VCALENDAR
