BEGIN:VCALENDAR
VERSION:2.0
PRODID:-//ChamberMaster//Event Calendar 2.0//EN
METHOD:PUBLISH
X-PUBLISHED-TTL:P3D
REFRESH-INTERVAL:P3D
CALSCALE:GREGORIAN
BEGIN:VEVENT
DTSTART:20190428T010000Z
DTEND:20190428T035500Z
X-MICROSOFT-CDO-ALLDAYEVENT:FALSE
SUMMARY:Kameron Marlowe at the World of Sports
DESCRIPTION:Kameron Marlowe live at the World of Sports\, Saturday April 27th from 9:00 - midnight.\n\n\n\nKamerone was top 24 on The Voice!
X-ALT-DESC;FMTTYPE=text/html:Kameron Marlowe live at the World of Sports\, Saturday April 27th from 9:00 - midnight.<br />\n<br />\nKamerone was top 24 on The Voice!
LOCATION:World of Sports 2030 Bill Tuck Highway South Boston\, VA 24592
UID:e.845.12430
SEQUENCE:3
DTSTAMP:20260421T094130Z
URL:https://business.halifaxchamber.net/events/details/kameron-marlowe-at-the-world-of-sports-12430
END:VEVENT

END:VCALENDAR
