BEGIN:VCALENDAR
VERSION:2.0
PRODID:-//ChamberMaster//Event Calendar 2.0//EN
METHOD:PUBLISH
X-PUBLISHED-TTL:P3D
REFRESH-INTERVAL:P3D
CALSCALE:GREGORIAN
BEGIN:VEVENT
DTSTART:20190914T010000Z
DTEND:20190914T035500Z
X-MICROSOFT-CDO-ALLDAYEVENT:FALSE
SUMMARY:Kameron Marlowe from The Voice at the World of Sports
DESCRIPTION:Enjoy live music with Kameron Marlowe from the TOP 24 of The Voice at World of Sports! Friday\, September 13th from 9:00pm - 12:00am
X-ALT-DESC;FMTTYPE=text/html:<span style="color:rgb(29\, 33\, 41)\; font-family:system-ui\,-apple-system\,blinkmacsystemfont\,.sfnstext-regular\,sans-serif\; font-size:14px">Enjoy live music with Kameron Marlowe from the TOP 24 of The Voice at World of Sports! Friday\, September 13th from 9:00pm - 12:00am</span>
LOCATION:World of Sports 2030 Bill Tuck Highway South Boston\, VA 24592
UID:e.845.13283
SEQUENCE:3
DTSTAMP:20260420T234617Z
URL:https://business.halifaxchamber.net/events/details/kameron-marlowe-from-the-voice-at-the-world-of-sports-09-13-2019-13283
END:VEVENT

END:VCALENDAR
