BEGIN:VCALENDAR
VERSION:2.0
PRODID:-//ChamberMaster//Event Calendar 2.0//EN
METHOD:PUBLISH
X-PUBLISHED-TTL:P3D
REFRESH-INTERVAL:P3D
CALSCALE:GREGORIAN
BEGIN:VEVENT
DTSTART:20170507T010000Z
DTEND:20170507T050000Z
X-MICROSOFT-CDO-ALLDAYEVENT:FALSE
SUMMARY:Karaoke at Main Street Cafe
DESCRIPTION:Karaoke Saturday night!! Get those voices ready and come on down and sing!! Hope to see ya there!!
X-ALT-DESC;FMTTYPE=text/html:Karaoke Saturday night!! Get those voices ready and come on down and sing!! Hope to see ya there!!
LOCATION:Main Street Cafe 521 N. Main Street South Boston\, VA
UID:e.845.5915
SEQUENCE:3
DTSTAMP:20260422T232836Z
URL:https://business.halifaxchamber.net/events/details/karaoke-at-main-street-cafe-05-06-2017-5915
END:VEVENT

END:VCALENDAR
