BEGIN:VCALENDAR
VERSION:2.0
PRODID:-//ChamberMaster//Event Calendar 2.0//EN
METHOD:PUBLISH
X-PUBLISHED-TTL:P3D
REFRESH-INTERVAL:P3D
CALSCALE:GREGORIAN
BEGIN:VEVENT
DTSTART:20170618T003000Z
DTEND:20170618T035500Z
X-MICROSOFT-CDO-ALLDAYEVENT:FALSE
SUMMARY:Karaoke night at Main Street Cafe
DESCRIPTION:Karaoke Saturday night!! Get those voices ready and come on down and sing!! Hope to see ya there!!
X-ALT-DESC;FMTTYPE=text/html:Karaoke Saturday night!! Get those voices ready and come on down and sing!! Hope to see ya there!!
LOCATION:521 N. Main Street South Boston\, VA
UID:e.845.5926
SEQUENCE:3
DTSTAMP:20260422T212318Z
URL:https://business.halifaxchamber.net/events/details/karaoke-night-at-main-street-cafe-5926
END:VEVENT

END:VCALENDAR
