BEGIN:VCALENDAR
VERSION:2.0
PRODID:-//ChamberMaster//Event Calendar 2.0//EN
METHOD:PUBLISH
X-PUBLISHED-TTL:P3D
REFRESH-INTERVAL:P3D
CALSCALE:GREGORIAN
BEGIN:VEVENT
DTSTART:20181201T140000Z
DTEND:20181201T200000Z
X-MICROSOFT-CDO-ALLDAYEVENT:FALSE
SUMMARY:Kid's Town Children's Gift Giving Bazaar
DESCRIPTION:Children's Gift Giving Bazaar\n\nChildren ages 12 and under will be able to come in to shop for their family and friends! Items will be priced .50 to $2.\n\n\n\nWe are seeking small donated items such as mugs\, figurines\, magnets\, scarves\, costume jewelry\, baskets\, etc.. any type small item that a child can hand pick\, purchase and gift it all on their own.\n\nAll Proceeds go towards future children's activities
X-ALT-DESC;FMTTYPE=text/html:Children&#39\;s Gift Giving Bazaar<br />\nChildren ages 12 and under will be able to come in to shop for their family and friends! Items will be priced .50 to $2.<br />\n<br />\nWe are seeking small donated items such as mugs\, figurines\, magnets\, scarves\, costume jewelry\, baskets\, etc.. any type small item that a child can hand pick\, purchase and gift it all on their own.<br />\nAll Proceeds go towards future children&#39\;s activities
LOCATION:Town of Halifax Farmers Market
UID:e.845.8585
SEQUENCE:3
DTSTAMP:20260421T140122Z
URL:https://business.halifaxchamber.net/events/details/kid-s-town-children-s-gift-giving-bazaar-8585
END:VEVENT

END:VCALENDAR
