BEGIN:VCALENDAR
VERSION:2.0
PRODID:-//ChamberMaster//Event Calendar 2.0//EN
METHOD:PUBLISH
X-PUBLISHED-TTL:P3D
REFRESH-INTERVAL:P3D
CALSCALE:GREGORIAN
BEGIN:VEVENT
DTSTART:20181102T220000Z
DTEND:20181102T233000Z
X-MICROSOFT-CDO-ALLDAYEVENT:FALSE
SUMMARY:Kids Crusade - South Boston Church of God
DESCRIPTION:South Boston Church of God - Kids Crusade\n\n\n\nThe Jubilee Gang makes church fun for kids! Fast Paced Multi-Media Experience! Live Action Events!\n\nThe Jubilee Gang is a fast paced Multi media ministry to children and families. Jerry Moyer is one of the top Children's Evangelist in America & has taken Children's Ministry & Family Ministry to the next level.
X-ALT-DESC;FMTTYPE=text/html:South Boston Church of God - Kids Crusade<br />\n<br />\nThe Jubilee Gang makes church fun for kids! Fast Paced Multi-Media Experience! Live Action Events!<br />\n<strong><span style="caret-color: rgb(144\, 148\, 156)\; color: rgb(144\, 148\, 156)\; font-family: system-ui\, -apple-system\, BlinkMacSystemFont\, &quot\;.SFNSText-Regular&quot\;\, sans-serif\; font-size: 14px\; background-color: rgb(255\, 255\, 255)\;">The Jubilee Gang is a fast paced Multi media ministry to children and families. Jerry Moyer is one of the top Children&#39\;s Evangelist in America &amp\; has taken Children&#39\;s Ministry &amp\; Family Ministry to the next level.&nbsp\;</span></strong>
LOCATION:South Boston Church of God 3000 Halifax Rd. South Boston\, VA
UID:e.845.8513
SEQUENCE:3
DTSTAMP:20260421T154156Z
URL:https://business.halifaxchamber.net/events/details/kids-crusade-south-boston-church-of-god-8513
END:VEVENT

END:VCALENDAR
