BEGIN:VCALENDAR
VERSION:2.0
PRODID:-//ChamberMaster//Event Calendar 2.0//EN
METHOD:PUBLISH
X-PUBLISHED-TTL:P3D
REFRESH-INTERVAL:P3D
CALSCALE:GREGORIAN
BEGIN:VEVENT
DTSTART:20190511T120000Z
DTEND:20190511T160000Z
X-MICROSOFT-CDO-ALLDAYEVENT:FALSE
SUMMARY:Kids Fun Day
DESCRIPTION:Halifax Farmers Market invites you to bring the kids out for Kids Fun Day!\n\nFree activities include:\n\n8am-11am potting up a plant for Mom. Hosted by the Southside Master Gardeners \n\n9a-12pm Pine Cone Bird Feeders\, display of various bird skulls and owl pellets with Staunton River Battlefield State Park\n\n8am-11am Small garden Tool Sharpening hosted by Master Gardeners\n\n\n\nMining for Gems $6 per child ages 6-12.
X-ALT-DESC;FMTTYPE=text/html:Halifax Farmers Market invites you to bring the kids out for Kids Fun Day!<br />\nFree activities include:<br />\n8am-11am potting up a plant for Mom. Hosted by the Southside Master Gardeners&nbsp\;<br />\n9a-12pm Pine Cone Bird Feeders\, display of various bird skulls and owl pellets with Staunton River Battlefield State Park<br />\n8am-11am Small garden Tool Sharpening hosted by Master Gardeners<br />\n<br />\nMining for Gems $6 per child ages 6-12.&nbsp\;<br />\n&nbsp\;
LOCATION:Halifax Farmers Market
UID:e.845.12490
SEQUENCE:3
DTSTAMP:20260421T062326Z
URL:https://business.halifaxchamber.net/events/details/kids-fun-day-12490
END:VEVENT

END:VCALENDAR
