BEGIN:VCALENDAR
VERSION:2.0
PRODID:-//ChamberMaster//Event Calendar 2.0//EN
METHOD:PUBLISH
X-PUBLISHED-TTL:P3D
REFRESH-INTERVAL:P3D
CALSCALE:GREGORIAN
BEGIN:VEVENT
DTSTART:20190708T130000Z
DTEND:20190713T160000Z
X-MICROSOFT-CDO-ALLDAYEVENT:FALSE
SUMMARY:Kids Kollege
DESCRIPTION:Register your chilren for Kids Kollege this summer!\n\nRegistration deadline is July 1\, 2019.\n\nPrograms include:\n\n	Say It With Music\n	Stomping into Dino World\n	DIY Slime and Other Science\n	Kreative Kids\n	LEGOS: Build and Program\n	In The Spotlight!\n	LEGOS to the MAX!\n	Harry Potter: The Sorcerer's Stone
X-ALT-DESC;FMTTYPE=text/html:Register your chilren for Kids Kollege this summer!<br />\nRegistration deadline is July 1\, 2019.<br />\nPrograms include:\n<ul>\n	<li>Say It With Music</li>\n	<li>Stomping into Dino World</li>\n	<li>DIY Slime and Other Science</li>\n	<li>Kreative Kids</li>\n	<li>LEGOS: Build and Program</li>\n	<li>In The Spotlight!</li>\n	<li>LEGOS to the MAX!</li>\n	<li>Harry Potter: The Sorcerer&#39\;s Stone</li>\n</ul>\n
LOCATION:Classes will be held in the Prizery\, Innovation Center or Southern Virginia Higher Education Center.
UID:e.845.12459
SEQUENCE:3
DTSTAMP:20260421T044150Z
URL:https://business.halifaxchamber.net/events/details/kids-kollege-12459
END:VEVENT

END:VCALENDAR
