BEGIN:VCALENDAR
VERSION:2.0
PRODID:-//ChamberMaster//Event Calendar 2.0//EN
METHOD:PUBLISH
X-PUBLISHED-TTL:P3D
REFRESH-INTERVAL:P3D
CALSCALE:GREGORIAN
BEGIN:VEVENT
DTSTART:20190715T130000Z
DTEND:20190719T160000Z
X-MICROSOFT-CDO-ALLDAYEVENT:FALSE
SUMMARY:Kids Kollege Session 2
DESCRIPTION:Register your chilren for Kids Kollege this summer!\n\nRegistration deadline is July 1\, 2019.\n\nPrograms include:\n\n	Legos\, Legos\, and More Legos\n	I'm a Star!\n	Nature Explorer\n	Needles and Noodles\n	CSI... WHO DONE IT\n	Planet Coaster\n	Art Around the World
X-ALT-DESC;FMTTYPE=text/html:Register your chilren for Kids Kollege this summer!<br />\nRegistration deadline is July 1\, 2019.<br />\nPrograms include:\n<ul>\n	<li>Legos\, Legos\, and More Legos</li>\n	<li>I&#39\;m a Star!</li>\n	<li>Nature Explorer</li>\n	<li>Needles and Noodles</li>\n	<li>CSI... WHO DONE IT</li>\n	<li>Planet Coaster</li>\n	<li>Art Around the World</li>\n</ul>\n
LOCATION:Classes will be held in the Prizery\, Innovation Center or Southern Virginia Higher Education Center.
UID:e.845.12460
SEQUENCE:3
DTSTAMP:20260421T044233Z
URL:https://business.halifaxchamber.net/events/details/kids-kollege-session-2-12460
END:VEVENT

END:VCALENDAR
