BEGIN:VCALENDAR
VERSION:2.0
PRODID:-//ChamberMaster//Event Calendar 2.0//EN
METHOD:PUBLISH
X-PUBLISHED-TTL:P3D
REFRESH-INTERVAL:P3D
CALSCALE:GREGORIAN
BEGIN:VEVENT
DTSTART:20170408T180000Z
DTEND:20170408T210000Z
X-MICROSOFT-CDO-ALLDAYEVENT:FALSE
SUMMARY:Kimberly Ferguson Exhibit Opening Reception
DESCRIPTION:Richmond native\, Kimberly Ferguson started painting with watercolor a few years ago when she moved to Mecklenburg County and studied art under Ray Cherry. Her passion for art is drawn from the way the medium is fluid and seems to take a life of its own. She has written and illustrated several children's books. Kim believes that the arts are a blessing for all of us\, but she indicates that the greatest blessings for her is to share her work and for others the see the world through her eyes her paintings.  She currently resides in Clarksville\, Virginia with her husband Barry. Richmond native\, Kimberly Ferguson started painting with watercolor a few years ago when she moved to Mecklenburg County and studied art under Ray Cherry. Her passion for art is drawn from the way the medium is fluid and seems to take a life of its own. She has written and illustrated several children's books. Kim believes that the arts are a blessing for all of us\, but she indicates that the greatest blessings for her is to share her work and for others the see the world through her eyes her paintings.  She currently resides in Clarksville\, Virginia with her husband Barry. \n\n\n\nA "Meet the Artist" and grand opening reception will be held on Saturday\, April 8 from 2 until 5 p.m. Light hors d'oeuvres will be provided.\n\n\n\nThe exhibit will be on display from April 8th - May 27th.
X-ALT-DESC;FMTTYPE=text/html:<span style="font-family:arial\;"><span style="font-size:12px\;">Richmond native\, Kimberly Ferguson started painting with watercolor a few years ago when she moved to Mecklenburg County and studied art under Ray Cherry. Her passion for art is drawn from the way the medium is fluid and seems to take a life of its own. She has written and illustrated several children&rsquo\;s books. Kim believes that the arts are a blessing for all of us\, but she indicates that the greatest blessings for her is to share her work and for others the see the world through her eyes&mdash\;her paintings. &nbsp\;She currently resides in Clarksville\, Virginia with her husband Barry.&nbsp\;Richmond native\, Kimberly Ferguson started painting with watercolor a few years ago when she moved to Mecklenburg County and studied art under Ray Cherry. Her passion for art is drawn from the way the medium is fluid and seems to take a life of its own. She has written and illustrated several children&rsquo\;s books. Kim believes that the arts are a blessing for all of us\, but she indicates that the greatest blessings for her is to share her work and for others the see the world through her eyes&mdash\;her paintings. &nbsp\;She currently resides in Clarksville\, Virginia with her husband Barry.&nbsp\;</span><br />\n<br />\n<strong>A &ldquo\;Meet the Artist&rdquo\; and grand opening reception will be held on Saturday\, April 8 from 2 until 5 p.m. Light hors d&rsquo\;oeuvres will be provided.</strong></span><br />\n<br />\nThe exhibit will be on display from April 8th - May 27th.<br />\n<br />\n&nbsp\;
LOCATION:South Boston-Halifax County Museum of Fine Arts and History 1540 Wilborn Avenue South Boston\, VA
UID:e.845.5891
SEQUENCE:3
DTSTAMP:20260424T113850Z
URL:https://business.halifaxchamber.net/events/details/kimberly-ferguson-exhibit-opening-reception-5891
END:VEVENT

END:VCALENDAR
