BEGIN:VCALENDAR
VERSION:2.0
PRODID:-//ChamberMaster//Event Calendar 2.0//EN
METHOD:PUBLISH
X-PUBLISHED-TTL:P3D
REFRESH-INTERVAL:P3D
CALSCALE:GREGORIAN
BEGIN:VEVENT
DTSTART:20190427T130000Z
DTEND:20190427T160000Z
X-MICROSOFT-CDO-ALLDAYEVENT:FALSE
SUMMARY:KJ's Cake Creations Grand Reopening
DESCRIPTION:KJ's Cake Creations will be having their Grand Reopening Saturday\, April 27. \n\nOpen at 9:00 am with a ribbon cutting at 10:00 am.\n\nCupcake\, Parfait cup\, and Cake slice specials from 9:00 am - 12:00 pm.
X-ALT-DESC;FMTTYPE=text/html:KJ&#39\;s Cake Creations will be having their Grand Reopening Saturday\, April 27.&nbsp\;<br />\nOpen at 9:00 am with a ribbon cutting at 10:00 am.<br />\nCupcake\, Parfait cup\, and Cake slice specials from 9:00 am - 12:00 pm.
LOCATION:KJ's Cake Creations 524 N. Main Street South Boston\, VA 24592
UID:e.845.12467
SEQUENCE:3
DTSTAMP:20260421T080053Z
URL:https://business.halifaxchamber.net/events/details/kj-s-cake-creations-grand-reopening-12467
END:VEVENT

END:VCALENDAR
