BEGIN:VCALENDAR
VERSION:2.0
PRODID:-//ChamberMaster//Event Calendar 2.0//EN
METHOD:PUBLISH
X-PUBLISHED-TTL:P3D
REFRESH-INTERVAL:P3D
CALSCALE:GREGORIAN
BEGIN:VEVENT
DTSTART:20170909T140000Z
DTEND:20170909T150000Z
X-MICROSOFT-CDO-ALLDAYEVENT:FALSE
SUMMARY:KJ's Cake Creations Ribbon Cutting and Grand Opening
DESCRIPTION:Join us for KJ's Cake Creations Grand Opening and Ribbon Cutting Saturday\, September 9th.\n\n\n\nGrand Opening is from 9:00AM - 4:00PM and the Ribbon Cutting is at 10:00AM.
X-ALT-DESC;FMTTYPE=text/html:Join us for KJ&#39\;s Cake Creations Grand Opening and Ribbon Cutting Saturday\, September 9th.<br />\n<br />\nGrand Opening is from 9:00AM - 4:00PM and the Ribbon Cutting is at 10:00AM.<br />\n<br />\n&nbsp\;
LOCATION:KJ's Cake Creations 300 Main Street South Boston
UID:e.845.7089
SEQUENCE:3
DTSTAMP:20260422T154057Z
URL:https://business.halifaxchamber.net/events/details/kj-s-cake-creations-ribbon-cutting-and-grand-opening-7089
END:VEVENT

END:VCALENDAR
