BEGIN:VCALENDAR
VERSION:2.0
PRODID:-//ChamberMaster//Event Calendar 2.0//EN
METHOD:PUBLISH
X-PUBLISHED-TTL:P3D
REFRESH-INTERVAL:P3D
CALSCALE:GREGORIAN
BEGIN:VEVENT
DTSTART:20181209T003000Z
DTEND:20181209T020000Z
X-MICROSOFT-CDO-ALLDAYEVENT:FALSE
SUMMARY:Konstantin:Classical Cabaret
DESCRIPTION:World-renowned classical pianist Konstantin Soukhovetsi returns to The Prizery stage to add joy to your Chrsitmas Season .
X-ALT-DESC;FMTTYPE=text/html:World-renowned classical pianist Konstantin Soukhovetsi returns to The Prizery stage to add joy to your Chrsitmas Season .
LOCATION:The Prizery 820 Bruce Street South Boston\, VA
UID:e.845.8568
SEQUENCE:3
DTSTAMP:20260421T152538Z
URL:https://business.halifaxchamber.net/events/details/konstantin-classical-cabaret-8568
END:VEVENT

END:VCALENDAR
