BEGIN:VCALENDAR
VERSION:2.0
PRODID:-//ChamberMaster//Event Calendar 2.0//EN
METHOD:PUBLISH
X-PUBLISHED-TTL:P3D
REFRESH-INTERVAL:P3D
CALSCALE:GREGORIAN
BEGIN:VEVENT
DTSTART:20190228T223000Z
DTEND:20190301T000000Z
X-MICROSOFT-CDO-ALLDAYEVENT:FALSE
SUMMARY:Ladies Night Out @ Sweet Cee's
DESCRIPTION:Sweet Cee invites you to grab your friends for a little shopping and fun! \n\nDesign your own coozie for $5.00 each! \n\nLight refreshments will be provided and all attendees will receive 20% in stock items purchased during the event. \n\n**Limited space available**
X-ALT-DESC;FMTTYPE=text/html:Sweet Cee invites you to grab your friends for a little shopping and fun!&nbsp\;<br />\nDesign your own coozie for $5.00 each!&nbsp\;<br />\nLight refreshments will be provided and all attendees will receive 20% in stock items purchased during the event.&nbsp\;<br />\n**Limited space available**
LOCATION:Sweet Cee's Gifts & Kids Consignment 441 Main Street South Boston\, VA
UID:e.845.11714
SEQUENCE:3
DTSTAMP:20260421T122614Z
URL:https://business.halifaxchamber.net/events/details/ladies-night-out-sweet-cee-s-11714
END:VEVENT

END:VCALENDAR
