BEGIN:VCALENDAR
VERSION:2.0
PRODID:-//ChamberMaster//Event Calendar 2.0//EN
METHOD:PUBLISH
X-PUBLISHED-TTL:P3D
REFRESH-INTERVAL:P3D
CALSCALE:GREGORIAN
BEGIN:VEVENT
DTSTART:20190518T143000Z
DTEND:20190518T170000Z
X-MICROSOFT-CDO-ALLDAYEVENT:FALSE
SUMMARY:Law Enforcement Appreciation at the Halifax Farmers Market
DESCRIPTION:Law Enforcement Appreciation Week will be celebrated at the Halifax Farmers Market. FREE hot dog lunch with chips\, water & dessert for Law Enforcement!\n\nStop by while on duty or come by for a quick and free lunch.\n\nThank you for all you do!
X-ALT-DESC;FMTTYPE=text/html:Law Enforcement Appreciation Week will be celebrated at the Halifax Farmers Market. FREE hot dog lunch with chips\, water &amp\; dessert for Law Enforcement!<br />\nStop by while on duty or come by for a quick and free lunch.<br />\nThank you for all you do!
LOCATION:Halifax Farmers Market
UID:e.845.13119
SEQUENCE:3
DTSTAMP:20260421T063136Z
URL:https://business.halifaxchamber.net/events/details/law-enforcement-appreciation-at-the-halifax-farmers-market-13119
END:VEVENT

END:VCALENDAR
