BEGIN:VCALENDAR
VERSION:2.0
PRODID:-//ChamberMaster//Event Calendar 2.0//EN
METHOD:PUBLISH
X-PUBLISHED-TTL:P3D
REFRESH-INTERVAL:P3D
CALSCALE:GREGORIAN
BEGIN:VEVENT
DTSTART:20200229T130000Z
DTEND:20200229T180000Z
X-MICROSOFT-CDO-ALLDAYEVENT:FALSE
SUMMARY:Leap of Kindness Adopt-a-thon
DESCRIPTION:Halifax County Chamber of Commerce\, HYPE\, and Animal Medical Clinic of South Boston have partnered to host an adopt-a-thon at the local animal shelter on Leap of Kindness Day 2020! Animal Medical Clinic of South Boston will waive the shelter adoption fees for the first (9) animals adopted on 2-29-2020 between 8:00am-1:00pm.
X-ALT-DESC;FMTTYPE=text/html:<span style="color: rgb(29\, 33\, 41)\; font-family: system-ui\, -apple-system\, system-ui\, &quot\;.SFNSText-Regular&quot\;\, sans-serif\; font-size: 14px\; white-space: pre-wrap\;">Halifax County Chamber of Commerce\, HYPE\, and Animal Medical Clinic of South Boston have partnered to host an adopt-a-thon at the local animal shelter on Leap of Kindness Day 2020! Animal Medical Clinic of South Boston will waive the shelter adoption fees for the first (9) animals adopted on 2-29-2020 between 8:00am-1:00pm. </span>
LOCATION:Halifax County Animal Shelter 1040 Farm Road South Boston\, VA 24592
UID:e.845.17511
SEQUENCE:3
DTSTAMP:20260420T165445Z
URL:https://business.halifaxchamber.net/events/details/leap-of-kindness-adopt-a-thon-17511
END:VEVENT

END:VCALENDAR
