BEGIN:VCALENDAR
VERSION:2.0
PRODID:-//ChamberMaster//Event Calendar 2.0//EN
METHOD:PUBLISH
X-PUBLISHED-TTL:P3D
REFRESH-INTERVAL:P3D
CALSCALE:GREGORIAN
BEGIN:VEVENT
DTSTART:20190304T220000Z
DTEND:20190305T020000Z
X-MICROSOFT-CDO-ALLDAYEVENT:FALSE
SUMMARY:Learn How To Save A Life
DESCRIPTION:CPR/FIRST AID TRAINING\n\nAfter successfully completing this training\, you will be ASHI CPR Professional Rescurer BasicFirst Aid and Emergency Oxygen certified. Certifications are good for 2 years.
X-ALT-DESC;FMTTYPE=text/html:CPR/FIRST AID TRAINING<br />\nAfter successfully completing this training\, you will be ASHI CPR Professional Rescurer BasicFirst Aid and Emergency Oxygen certified. Certifications are good for 2 years.
LOCATION:Aquatics Department South Boston/Halifax County YMCA
UID:e.845.12261
SEQUENCE:3
DTSTAMP:20260421T093526Z
URL:https://business.halifaxchamber.net/events/details/learn-how-to-save-a-life-12261
END:VEVENT

END:VCALENDAR
