BEGIN:VCALENDAR
VERSION:2.0
PRODID:-//ChamberMaster//Event Calendar 2.0//EN
METHOD:PUBLISH
X-PUBLISHED-TTL:P3D
REFRESH-INTERVAL:P3D
CALSCALE:GREGORIAN
BEGIN:VEVENT
DTSTART:20170916T010000Z
DTEND:20170916T035500Z
X-MICROSOFT-CDO-ALLDAYEVENT:FALSE
SUMMARY:Lee Loudermilk at JB's
DESCRIPTION:Lee Loudermilk performing live at JB's Burgers\, Apps and Taps.
X-ALT-DESC;FMTTYPE=text/html:Lee Loudermilk&nbsp\;performing live at JB&#39\;s&nbsp\;Burgers\, Apps and Taps.&nbsp\;<br />\n&nbsp\;
LOCATION:World of Sports JB's Burgers\, Apps and Taps 2030 Bill Tuck Highway South Boston\, VA
UID:e.845.7052
SEQUENCE:3
DTSTAMP:20260422T155932Z
URL:https://business.halifaxchamber.net/events/details/lee-loudermilk-at-jb-s-7052
END:VEVENT

END:VCALENDAR
