BEGIN:VCALENDAR
VERSION:2.0
PRODID:-//ChamberMaster//Event Calendar 2.0//EN
METHOD:PUBLISH
X-PUBLISHED-TTL:P3D
REFRESH-INTERVAL:P3D
CALSCALE:GREGORIAN
BEGIN:VEVENT
DTSTART:20170708T010000Z
DTEND:20170708T035500Z
X-MICROSOFT-CDO-ALLDAYEVENT:FALSE
SUMMARY:Lee Loudermilk at JB's Burger\, Apps & Taps
DESCRIPTION:Lee Loudermilk will be performing live at JB's Burgers\, Apps and Taps located in the World of Sports Friday\, July 7th.
X-ALT-DESC;FMTTYPE=text/html:Lee Loudermilk will be performing live at JB&#39\;s&nbsp\;Burgers\, Apps and Taps located in the World of Sports Friday\, July 7th.
LOCATION:JB's Burgers\, Apps & Taps World of Sports 2030 Bill Tuck Highway South Boston\, VA
UID:e.845.7008
SEQUENCE:3
DTSTAMP:20260422T194443Z
URL:https://business.halifaxchamber.net/events/details/lee-loudermilk-at-jb-s-burger-apps-taps-7008
END:VEVENT

END:VCALENDAR
