BEGIN:VCALENDAR
VERSION:2.0
PRODID:-//ChamberMaster//Event Calendar 2.0//EN
METHOD:PUBLISH
X-PUBLISHED-TTL:P3D
REFRESH-INTERVAL:P3D
CALSCALE:GREGORIAN
BEGIN:VEVENT
DTSTART:20190204T190000Z
DTEND:20190204T200000Z
X-MICROSOFT-CDO-ALLDAYEVENT:FALSE
SUMMARY:Life After Loss Sentara Halifax Regional
DESCRIPTION:This ia a support group that will provide a safe environment for individuals to share and process their needs\, thoughts\, and feelings of grief. Call 434-517-3339 for more information
X-ALT-DESC;FMTTYPE=text/html:This ia a support group that will provide a safe environment for individuals to share and process their needs\, thoughts\, and feelings of grief. Call 434-517-3339 for more information
LOCATION:Sentara Halifax Regional Fuller Roberts Room
UID:e.845.12006
SEQUENCE:3
DTSTAMP:20260423T090808Z
URL:https://business.halifaxchamber.net/events/details/life-after-loss-sentara-halifax-regional-12006
END:VEVENT

END:VCALENDAR
