BEGIN:VCALENDAR
VERSION:2.0
PRODID:-//ChamberMaster//Event Calendar 2.0//EN
METHOD:PUBLISH
X-PUBLISHED-TTL:P3D
REFRESH-INTERVAL:P3D
CALSCALE:GREGORIAN
BEGIN:VEVENT
DTSTART;VALUE=DATE:20201211
DTEND;VALUE=DATE:20201213
TRANSP:TRANSPARENT
X-MICROSOFT-CDO-ALLDAYEVENT:TRUE
SUMMARY:Lights for Hope
DESCRIPTION:A festive drive-thru Christmas lights display that will go directly benefit the Halifax County Cancer Association.
X-ALT-DESC;FMTTYPE=text/html:<span style="caret-color: rgb(68\, 68\, 68)\; color: rgb(68\, 68\, 68)\; font-family: Merriweather\, serif\; font-size: 20px\;">A festive drive-thru Christmas lights display that will go directly benefit the Halifax County Cancer Association.</span>
LOCATION:Halifax County Fairgrounds
UID:e.845.17814
SEQUENCE:3
DTSTAMP:20260419T220329Z
URL:https://business.halifaxchamber.net/events/details/lights-for-hope-17814
END:VEVENT

END:VCALENDAR
