BEGIN:VCALENDAR
VERSION:2.0
PRODID:-//ChamberMaster//Event Calendar 2.0//EN
METHOD:PUBLISH
X-PUBLISHED-TTL:P3D
REFRESH-INTERVAL:P3D
CALSCALE:GREGORIAN
BEGIN:VEVENT
DTSTART:20191209T230000Z
DTEND:20191210T010000Z
X-MICROSOFT-CDO-ALLDAYEVENT:FALSE
SUMMARY:Little Theater Auditions
DESCRIPTION:Little Theater will be holding auditions for the upcoming play "Ruby: The Story of Ruby Bridges". They are looking for a variety of children and adults\, ages 7 through senior adults\, all genders and races. The play is set to run in late February.
X-ALT-DESC;FMTTYPE=text/html:Little Theater will be holding auditions for the upcoming play &quot\;Ruby: The Story of Ruby Bridges&quot\;. They are looking for a variety of children and adults\, ages 7 through senior adults\, all genders and races. The play is set to run in late February.
LOCATION:The Prizery 700 Bruce Street South Boston\, VA 24592
UID:e.845.15590
SEQUENCE:3
DTSTAMP:20260420T200025Z
URL:https://business.halifaxchamber.net/events/details/little-theater-auditions-15590
END:VEVENT

END:VCALENDAR
