BEGIN:VCALENDAR
VERSION:2.0
PRODID:-//ChamberMaster//Event Calendar 2.0//EN
METHOD:PUBLISH
X-PUBLISHED-TTL:P3D
REFRESH-INTERVAL:P3D
CALSCALE:GREGORIAN
BEGIN:VEVENT
DTSTART:20191123T003000Z
DTEND:20191123T003000Z
X-MICROSOFT-CDO-ALLDAYEVENT:FALSE
SUMMARY:Little Theater Frozen Jr.
DESCRIPTION:Enjoy the Halifax County Little Theater Production of Frozen Jr.
X-ALT-DESC;FMTTYPE=text/html:Enjoy the Halifax County Little Theater Production of Frozen Jr.
LOCATION:The Prizey 700 Bruce Street South Boston\, VA 24592
UID:e.845.15558
SEQUENCE:3
DTSTAMP:20260420T200353Z
URL:https://business.halifaxchamber.net/events/details/little-theater-frozen-jr-15558
END:VEVENT

END:VCALENDAR
